BEGIN:VCALENDAR
VERSION:2.0
PRODID:-//Sonas: Holistic Health &amp; Healing with Hart - ECPv6.15.20//NONSGML v1.0//EN
CALSCALE:GREGORIAN
METHOD:PUBLISH
X-WR-CALNAME:Sonas: Holistic Health &amp; Healing with Hart
X-ORIGINAL-URL:https://sonasholistic.com
X-WR-CALDESC:Events for Sonas: Holistic Health &amp; Healing with Hart
REFRESH-INTERVAL;VALUE=DURATION:PT1H
X-Robots-Tag:noindex
X-PUBLISHED-TTL:PT1H
BEGIN:VTIMEZONE
TZID:America/New_York
BEGIN:DAYLIGHT
TZOFFSETFROM:-0500
TZOFFSETTO:-0400
TZNAME:EDT
DTSTART:20250309T070000
END:DAYLIGHT
BEGIN:STANDARD
TZOFFSETFROM:-0400
TZOFFSETTO:-0500
TZNAME:EST
DTSTART:20251102T060000
END:STANDARD
BEGIN:DAYLIGHT
TZOFFSETFROM:-0500
TZOFFSETTO:-0400
TZNAME:EDT
DTSTART:20260308T070000
END:DAYLIGHT
BEGIN:STANDARD
TZOFFSETFROM:-0400
TZOFFSETTO:-0500
TZNAME:EST
DTSTART:20261101T060000
END:STANDARD
BEGIN:DAYLIGHT
TZOFFSETFROM:-0500
TZOFFSETTO:-0400
TZNAME:EDT
DTSTART:20270314T070000
END:DAYLIGHT
BEGIN:STANDARD
TZOFFSETFROM:-0400
TZOFFSETTO:-0500
TZNAME:EST
DTSTART:20271107T060000
END:STANDARD
END:VTIMEZONE
BEGIN:VEVENT
DTSTART;TZID=America/New_York:20260424T190000
DTEND;TZID=America/New_York:20260424T213000
DTSTAMP:20260422T061543
CREATED:20250128T232407Z
LAST-MODIFIED:20251209T143736Z
UID:2517-1777057200-1777066200@sonasholistic.com
SUMMARY:Spirit Doll Making
DESCRIPTION:We will create simple art pieces from both materials found in nature\, and made items\, like fabrics\, buttons\, wire and clay. You may also choose to bring special items to incorporate into your doll-shells\, feathers\, jewelry and the like. We will use ritual and ceremony to help set intentions that will open up our creativity in making and energizing the spirit dolls. This doll is a personal expression and empowering treasure to embody whatever features you choose. \nEvent details and any instructions will be sent in an email after you register. \nSuggested donation: $35
URL:https://sonasholistic.com/event/spirit-doll-making/
LOCATION:The Yurt
CATEGORIES:Arts & Crafts,Spirit Doll Making
ATTACH;FMTTYPE=image/webp:https://sonasholistic.com/wp-content/uploads/2024/04/spirit-doll.webp
ORGANIZER;CN="Sonas Holistic":MAILTO:info@sonasholistic.com
END:VEVENT
END:VCALENDAR