BEGIN:VCALENDAR
VERSION:2.0
PRODID:-//Sonas: Holistic Health &amp; Healing with Hart - ECPv6.15.20//NONSGML v1.0//EN
CALSCALE:GREGORIAN
METHOD:PUBLISH
X-WR-CALNAME:Sonas: Holistic Health &amp; Healing with Hart
X-ORIGINAL-URL:https://sonasholistic.com
X-WR-CALDESC:Events for Sonas: Holistic Health &amp; Healing with Hart
REFRESH-INTERVAL;VALUE=DURATION:PT1H
X-Robots-Tag:noindex
X-PUBLISHED-TTL:PT1H
BEGIN:VTIMEZONE
TZID:America/New_York
BEGIN:DAYLIGHT
TZOFFSETFROM:-0500
TZOFFSETTO:-0400
TZNAME:EDT
DTSTART:20250309T070000
END:DAYLIGHT
BEGIN:STANDARD
TZOFFSETFROM:-0400
TZOFFSETTO:-0500
TZNAME:EST
DTSTART:20251102T060000
END:STANDARD
BEGIN:DAYLIGHT
TZOFFSETFROM:-0500
TZOFFSETTO:-0400
TZNAME:EDT
DTSTART:20260308T070000
END:DAYLIGHT
BEGIN:STANDARD
TZOFFSETFROM:-0400
TZOFFSETTO:-0500
TZNAME:EST
DTSTART:20261101T060000
END:STANDARD
BEGIN:DAYLIGHT
TZOFFSETFROM:-0500
TZOFFSETTO:-0400
TZNAME:EDT
DTSTART:20270314T070000
END:DAYLIGHT
BEGIN:STANDARD
TZOFFSETFROM:-0400
TZOFFSETTO:-0500
TZNAME:EST
DTSTART:20271107T060000
END:STANDARD
END:VTIMEZONE
BEGIN:VEVENT
DTSTART;TZID=America/New_York:20260424T190000
DTEND;TZID=America/New_York:20260424T213000
DTSTAMP:20260422T110303
CREATED:20250128T232407Z
LAST-MODIFIED:20251209T143736Z
UID:2517-1777057200-1777066200@sonasholistic.com
SUMMARY:Spirit Doll Making
DESCRIPTION:We will create simple art pieces from both materials found in nature\, and made items\, like fabrics\, buttons\, wire and clay. You may also choose to bring special items to incorporate into your doll-shells\, feathers\, jewelry and the like. We will use ritual and ceremony to help set intentions that will open up our creativity in making and energizing the spirit dolls. This doll is a personal expression and empowering treasure to embody whatever features you choose. \nEvent details and any instructions will be sent in an email after you register. \nSuggested donation: $35
URL:https://sonasholistic.com/event/spirit-doll-making/
LOCATION:The Yurt
CATEGORIES:Arts & Crafts,Spirit Doll Making
ATTACH;FMTTYPE=image/webp:https://sonasholistic.com/wp-content/uploads/2024/04/spirit-doll.webp
ORGANIZER;CN="Sonas Holistic":MAILTO:info@sonasholistic.com
END:VEVENT
BEGIN:VEVENT
DTSTART;TZID=America/New_York:20260417T190000
DTEND;TZID=America/New_York:20260417T213000
DTSTAMP:20260422T110303
CREATED:20250210T204431Z
LAST-MODIFIED:20251209T025418Z
UID:2539-1776452400-1776461400@sonasholistic.com
SUMMARY:Sitting with Sisters
DESCRIPTION:The return of a favorite evening that so many women have attended at the Sonas yurt in the past. This is an opportunity to nurture connection and gain life nourishment from  authentic connection. Women of all ages in my friend group are invited to come share a nibble and a non-alcoholic drink and just be together\, in circle\, relishing in the beautiful sacredness of space and our combined light. We will have a check in if you wish to speak and then the evening will unfold as it is meant to. \nEvent details and any instructions will be sent in an email after you register. \nSuggested donation: A nibble or non-alcoholic drink to share
URL:https://sonasholistic.com/event/sitting-with-sisters-2/
LOCATION:The Yurt
CATEGORIES:Sitting with Sisters
ATTACH;FMTTYPE=image/jpeg:https://sonasholistic.com/wp-content/uploads/2019/12/candle-960w.jpg
ORGANIZER;CN="Sonas Holistic":MAILTO:info@sonasholistic.com
END:VEVENT
BEGIN:VEVENT
DTSTART;TZID=America/New_York:20260410T190000
DTEND;TZID=America/New_York:20260410T213000
DTSTAMP:20260422T110303
CREATED:20250210T204629Z
LAST-MODIFIED:20251209T035709Z
UID:2541-1775847600-1775856600@sonasholistic.com
SUMMARY:Toxin Free Cleaning
DESCRIPTION:Join us for a fun and informative evening to learn about the science behind the medicinal plants used in the making of essential oils. We will also discuss the dangers of purchasing” cheap” synthetic fragrance oils and how fragrance lurks in many of our commercial cleaners and other household products. As a certified aromatherapist I want to share this imperative information and help you on your path to a toxin free life. We will make a room spray\, a personal care product and a cleaning spray (to be used to clean any surface effectively without chemicals!). \nEvent details and any instructions will be sent in an email after you register. \nSuggested donation: $45 (includes all supplies).
URL:https://sonasholistic.com/event/toxin-free-cleaning/
LOCATION:The Yurt
CATEGORIES:Aromatherapy,Safe Cleaning,Toxin-Free Lifestyle
ATTACH;FMTTYPE=image/webp:https://sonasholistic.com/wp-content/uploads/2025/01/aromatherapy.webp
ORGANIZER;CN="Sonas Holistic":MAILTO:info@sonasholistic.com
END:VEVENT
BEGIN:VEVENT
DTSTART;TZID=America/New_York:20260403T093000
DTEND;TZID=America/New_York:20260403T110000
DTSTAMP:20260422T110303
CREATED:20250128T174057Z
LAST-MODIFIED:20251209T143736Z
UID:2475-1775208600-1775214000@sonasholistic.com
SUMMARY:Soul Collage®
DESCRIPTION:A morning gathering to discover your own inner wisdom through collaging. Create a unique deck of colorful collaged cards with deep personal meaning. No prior art experience necessary. All supplies* and instructions to create four cards included for the evening. \nEvent details and any instructions will be sent in an email after you register. \nSuggested donation: $25\n*Additional materials and kits available for purchase
URL:https://sonasholistic.com/event/soul-collage-3/
LOCATION:The Yurt
CATEGORIES:Arts & Crafts,Soul Collage®
ATTACH;FMTTYPE=image/webp:https://sonasholistic.com/wp-content/uploads/2024/04/soulcollage.webp
ORGANIZER;CN="Sonas Holistic":MAILTO:info@sonasholistic.com
END:VEVENT
BEGIN:VEVENT
DTSTART;TZID=America/New_York:20260328T130000
DTEND;TZID=America/New_York:20260328T160000
DTSTAMP:20260422T110303
CREATED:20250210T204751Z
LAST-MODIFIED:20251209T143736Z
UID:2545-1774702800-1774713600@sonasholistic.com
SUMMARY:Mosaics Workshop
DESCRIPTION:All supplies and instructions included to make a door blessing modeled after the Jewish tradition of hanging a mezuzah at every entry of your home. We will use the chakra system as our guide for colors and writing personalized prayers. We will also pick corresponding crystals to enhance the tesserae (glass tiles) on our wooden substrate for a unique piece of art. This artful treasure will bless any place in your house that you choose to hang it. \nEvent details and any instructions will be sent in an email after you register. \nSuggested donation: $75
URL:https://sonasholistic.com/event/mosaics-workshop-2/
LOCATION:The Yurt
CATEGORIES:Arts & Crafts,Mosaics
ATTACH;FMTTYPE=image/webp:https://sonasholistic.com/wp-content/uploads/2025/02/IMG_0920.webp
ORGANIZER;CN="Sonas Holistic":MAILTO:info@sonasholistic.com
END:VEVENT
BEGIN:VEVENT
DTSTART;TZID=America/New_York:20260327T093000
DTEND;TZID=America/New_York:20260327T110000
DTSTAMP:20260422T110303
CREATED:20250210T205139Z
LAST-MODIFIED:20251209T143736Z
UID:2548-1774603800-1774609200@sonasholistic.com
SUMMARY:Soul Collage®
DESCRIPTION:A morning gathering to discover your own inner wisdom through collaging. Create a unique deck of colorful collaged cards with deep personal meaning. No prior art experience necessary. All supplies* and instructions to create four cards included for the evening. \nEvent details and any instructions will be sent in an email after you register. \nSuggested donation: $25\n*Additional materials and kits available for purchase
URL:https://sonasholistic.com/event/soul-collage-2/
LOCATION:The Yurt
CATEGORIES:Arts & Crafts,Soul Collage®
ATTACH;FMTTYPE=image/webp:https://sonasholistic.com/wp-content/uploads/2024/04/soulcollage.webp
ORGANIZER;CN="Sonas Holistic":MAILTO:info@sonasholistic.com
END:VEVENT
BEGIN:VEVENT
DTSTART;TZID=America/New_York:20260320T190000
DTEND;TZID=America/New_York:20260320T213000
DTSTAMP:20260422T110303
CREATED:20250210T204716Z
LAST-MODIFIED:20251209T025137Z
UID:2543-1774033200-1774042200@sonasholistic.com
SUMMARY:Sitting with Sisters
DESCRIPTION:The return of a favorite evening that so many women have attended at the Sonas yurt in the past. This is an opportunity to nurture connection and gain life nourishment from  authentic connection. Women of all ages in my friend group are invited to come share a nibble and a non-alcoholic drink and just be together\, in circle\, relishing in the beautiful sacredness of space and our combined light. We will have a check in if you wish to speak and then the evening will unfold as it is meant to. \nEvent details and any instructions will be sent in an email after you register. \nSuggested donation: A nibble or non-alcoholic drink to share
URL:https://sonasholistic.com/event/sitting-with-sisters/
LOCATION:The Yurt
CATEGORIES:Sitting with Sisters
ATTACH;FMTTYPE=image/jpeg:https://sonasholistic.com/wp-content/uploads/2019/12/candle-960w.jpg
ORGANIZER;CN="Sonas Holistic":MAILTO:info@sonasholistic.com
END:VEVENT
BEGIN:VEVENT
DTSTART;TZID=America/New_York:20260313T190000
DTEND;TZID=America/New_York:20260313T213000
DTSTAMP:20260422T110303
CREATED:20250128T232117Z
LAST-MODIFIED:20251209T143841Z
UID:2513-1773428400-1773437400@sonasholistic.com
SUMMARY:Arts and Crafts Evening
DESCRIPTION:This was another favorite in 2024! We will gather to have fun creating a variety of arts and crafts. Printing\, watercolor star lantern making\, needle felting butterflies and whatever else the muse brings to me to share with you!! \nEvent details and any instructions will be sent in an email after you register. \nSuggested donation: $35
URL:https://sonasholistic.com/event/arts-and-crafts-evening/
LOCATION:The Yurt
CATEGORIES:Arts & Crafts,Arts & Crafts Evening
ATTACH;FMTTYPE=image/webp:https://sonasholistic.com/wp-content/uploads/2025/01/crafts.webp
ORGANIZER;CN="Sonas Holistic":MAILTO:info@sonasholistic.com
END:VEVENT
BEGIN:VEVENT
DTSTART;TZID=America/New_York:20260306T190000
DTEND;TZID=America/New_York:20260306T213000
DTSTAMP:20260422T110303
CREATED:20250210T211416Z
LAST-MODIFIED:20251209T143547Z
UID:2552-1772823600-1772832600@sonasholistic.com
SUMMARY:Aromatherapy and Your Wellness Journey
DESCRIPTION:Come learn how aromatherapy can help with better sleep\, muscle aches and pains\, headache and many other maladies. As a certified aromatherapist I will take confidential intake forms once you are registered and at our gathering we will create a salve\, spray\, gel or lotion using pure essential oils and proper carrier oils and waxes to help you leave with exactly what you need to feel your best. Limited to 6*. \n*I am taking private clients if you are not able to make this evening. \nEvent details and any instructions will be sent in an email after you register. \nSuggested donation: $85 (includes all supplies).
URL:https://sonasholistic.com/event/aromatherapy-and-your-wellness-journey/
LOCATION:The Yurt
CATEGORIES:Aromatherapy
ATTACH;FMTTYPE=image/webp:https://sonasholistic.com/wp-content/uploads/2024/04/aroma.webp
ORGANIZER;CN="Sonas Holistic":MAILTO:info@sonasholistic.com
END:VEVENT
BEGIN:VEVENT
DTSTART;TZID=America/New_York:20260227T093000
DTEND;TZID=America/New_York:20260227T110000
DTSTAMP:20260422T110303
CREATED:20250210T211530Z
LAST-MODIFIED:20251209T143736Z
UID:2554-1772184600-1772190000@sonasholistic.com
SUMMARY:Soul Collage®
DESCRIPTION:A morning gathering to discover your own inner wisdom through collaging. Create a unique deck of colorful collaged cards with deep personal meaning. No prior art experience necessary. All supplies* and instructions to create four cards included for the evening. \nEvent details and any instructions will be sent in an email after you register. \nSuggested donation: $25\n*Additional materials and kits available for purchase
URL:https://sonasholistic.com/event/soul-collage-1/
LOCATION:The Yurt
CATEGORIES:Arts & Crafts,Soul Collage®
ATTACH;FMTTYPE=image/webp:https://sonasholistic.com/wp-content/uploads/2024/04/soulcollage.webp
ORGANIZER;CN="Sonas Holistic":MAILTO:info@sonasholistic.com
END:VEVENT
BEGIN:VEVENT
DTSTART;TZID=America/New_York:20260220T190000
DTEND;TZID=America/New_York:20260220T213000
DTSTAMP:20260422T110303
CREATED:20250210T211215Z
LAST-MODIFIED:20251209T024820Z
UID:2550-1771614000-1771623000@sonasholistic.com
SUMMARY:Sitting with Sisters
DESCRIPTION:The return of a favorite evening that so many women have attended at the Sonas yurt in the past. This is an opportunity to nurture connection and gain life nourishment from  authentic connection. Women of all ages in my friend group are invited to come share a nibble and a non-alcoholic drink and just be together\, in circle\, relishing in the beautiful sacredness of space and our combined light. We will have a check in if you wish to speak and then the evening will unfold as it is meant to. \nEvent details and any instructions will be sent in an email after you register. \nSuggested donation: A nibble or non-alcoholic drink to share
URL:https://sonasholistic.com/event/sitting-with-sisters-3/
LOCATION:The Yurt
CATEGORIES:Sitting with Sisters
ATTACH;FMTTYPE=image/jpeg:https://sonasholistic.com/wp-content/uploads/2019/12/candle-960w.jpg
ORGANIZER;CN="Sonas Holistic":MAILTO:info@sonasholistic.com
END:VEVENT
BEGIN:VEVENT
DTSTART;TZID=America/New_York:20260219T190000
DTEND;TZID=America/New_York:20260219T213000
DTSTAMP:20260422T110303
CREATED:20250128T164339Z
LAST-MODIFIED:20251209T035513Z
UID:2470-1771527600-1771536600@sonasholistic.com
SUMMARY:Home Herbal Apothecary
DESCRIPTION:Making elderberry syrup\, immune boosting essential oil roller bottle and other remedies. You will go home with finished remedies\, instructions on dosage and recipes on how to make them again. All supplies included. \nEvent details and any instructions will be sent in an email after you register. \nSuggested donation: $75
URL:https://sonasholistic.com/event/home-herbal-apothecary/
LOCATION:The Yurt
CATEGORIES:Apothecary,Home Herbal Apothecary
ATTACH;FMTTYPE=image/webp:https://sonasholistic.com/wp-content/uploads/2025/01/herbal-bottles.webp
ORGANIZER;CN="Sonas Holistic":MAILTO:info@sonasholistic.com
END:VEVENT
BEGIN:VEVENT
DTSTART;TZID=America/New_York:20260213T190000
DTEND;TZID=America/New_York:20260213T213000
DTSTAMP:20260422T110303
CREATED:20250128T232215Z
LAST-MODIFIED:20251209T143943Z
UID:2515-1771009200-1771018200@sonasholistic.com
SUMMARY:Spiritual Candle Decoupage and Guided Meditation
DESCRIPTION:Spiritual candle decoupage and guided meditation. We will start with a welcoming guided meditation to call in our creative muse and set the stage for our creativity. Then we will utilize found images and words to create an inspirational decoupage candle that you can place on your altar or in another special place in your home so that you can see it daily as a reminder of the light within. All supplies are included. \nEvent details and any instructions will be sent in an email after you register. \nSuggested donation: $35
URL:https://sonasholistic.com/event/spiritual-candle-decoupage-and-guided-meditation/
LOCATION:The Yurt
CATEGORIES:Arts & Crafts,Candle Decoupage,Meditation
ATTACH;FMTTYPE=image/webp:https://sonasholistic.com/wp-content/uploads/2025/01/candle.webp
ORGANIZER;CN="Sonas Holistic":MAILTO:info@sonasholistic.com
END:VEVENT
BEGIN:VEVENT
DTSTART;TZID=America/New_York:20260130T190000
DTEND;TZID=America/New_York:20260130T210000
DTSTAMP:20260422T110303
CREATED:20250128T173625Z
LAST-MODIFIED:20251209T024509Z
UID:2473-1769799600-1769806800@sonasholistic.com
SUMMARY:Sound Bath Healing
DESCRIPTION:Sound bath healing to celebrate the “stirring of the seeds” season. A brief introduction to what a sound bath is and then a guided meditation to lull you into a cozy\, restful place as you are washed over by beautiful sounds emanating from crystal bowls\, chimes\, rain stick\, brass singing bowls and light drumming. This was a favorite last year and all left feeling grounded and relaxed. \nEvent details and any instructions will be sent in an email after you register. \nSuggested donation: $45
URL:https://sonasholistic.com/event/sound-bath-healing/
LOCATION:The Yurt
CATEGORIES:Sound Bath
ATTACH;FMTTYPE=image/webp:https://sonasholistic.com/wp-content/uploads/2024/04/sound-bowl.webp
ORGANIZER;CN="Sonas Holistic":MAILTO:info@sonasholistic.com
END:VEVENT
BEGIN:VEVENT
DTSTART;TZID=America/New_York:20260123T190000
DTEND;TZID=America/New_York:20260123T213000
DTSTAMP:20260422T110303
CREATED:20250210T211558Z
LAST-MODIFIED:20251209T024429Z
UID:2556-1769194800-1769203800@sonasholistic.com
SUMMARY:Sitting with Sisters
DESCRIPTION:The return of a favorite evening that so many women have attended at the Sonas yurt in the past. This is an opportunity to nurture connection and gain life nourishment from  authentic connection. Women of all ages in my friend group are invited to come share a nibble and a non-alcoholic drink and just be together\, in circle\, relishing in the beautiful sacredness of space and our combined light. We will have a check in if you wish to speak and then the evening will unfold as it is meant to. \nEvent details and any instructions will be sent in an email after you register. \nSuggested donation: A nibble or non-alcoholic drink to share
URL:https://sonasholistic.com/event/sitting-with-sisters-4/
LOCATION:The Yurt
CATEGORIES:Sitting with Sisters
ATTACH;FMTTYPE=image/jpeg:https://sonasholistic.com/wp-content/uploads/2019/12/candle-960w.jpg
ORGANIZER;CN="Sonas Holistic":MAILTO:info@sonasholistic.com
END:VEVENT
BEGIN:VEVENT
DTSTART;TZID=America/New_York:20260116T190000
DTEND;TZID=America/New_York:20260116T213000
DTSTAMP:20260422T110303
CREATED:20250123T145052Z
LAST-MODIFIED:20251209T024312Z
UID:2436-1768590000-1768599000@sonasholistic.com
SUMMARY:Self Care Aromatherapy
DESCRIPTION:As a certified aromatherapist I have some great DIY’s to enhance your wellness journey. Safety and general essential oil use information will be part of the evening. \nEvent details and any instructions will be sent in an email after you register. \nSuggested donation: $50 (includes all supplies for 4 self care items).
URL:https://sonasholistic.com/event/self-care-aromatherapy/
LOCATION:The Yurt
CATEGORIES:Aromatherapy
ATTACH;FMTTYPE=image/webp:https://sonasholistic.com/wp-content/uploads/2025/01/aromatherapy.webp
ORGANIZER;CN="Sonas Holistic":MAILTO:info@sonasholistic.com
END:VEVENT
BEGIN:VEVENT
DTSTART;TZID=America/New_York:20260109T190000
DTEND;TZID=America/New_York:20260109T213000
DTSTAMP:20260422T110303
CREATED:20250128T174744Z
LAST-MODIFIED:20251209T143736Z
UID:2479-1767985200-1767994200@sonasholistic.com
SUMMARY:Creating Vision Boards
DESCRIPTION:Now that we have started the new year\, let’s take a look at what you want to invite in or manifest in your life in 2026! All supplies included. \nEvent details and any instructions will be sent in an email after you register. \nSuggested donation: $30
URL:https://sonasholistic.com/event/creating-vision-boards/
LOCATION:The Yurt
CATEGORIES:Arts & Crafts,Vision Boards
ATTACH;FMTTYPE=image/webp:https://sonasholistic.com/wp-content/uploads/2025/01/vision-board.webp
ORGANIZER;CN="Sonas Holistic":MAILTO:info@sonasholistic.com
END:VEVENT
END:VCALENDAR