BEGIN:VCALENDAR
VERSION:2.0
PRODID:-//Sonas: Holistic Health &amp; Healing with Hart - ECPv6.15.20//NONSGML v1.0//EN
CALSCALE:GREGORIAN
METHOD:PUBLISH
X-WR-CALNAME:Sonas: Holistic Health &amp; Healing with Hart
X-ORIGINAL-URL:https://sonasholistic.com
X-WR-CALDESC:Events for Sonas: Holistic Health &amp; Healing with Hart
REFRESH-INTERVAL;VALUE=DURATION:PT1H
X-Robots-Tag:noindex
X-PUBLISHED-TTL:PT1H
BEGIN:VTIMEZONE
TZID:America/New_York
BEGIN:DAYLIGHT
TZOFFSETFROM:-0500
TZOFFSETTO:-0400
TZNAME:EDT
DTSTART:20250309T070000
END:DAYLIGHT
BEGIN:STANDARD
TZOFFSETFROM:-0400
TZOFFSETTO:-0500
TZNAME:EST
DTSTART:20251102T060000
END:STANDARD
BEGIN:DAYLIGHT
TZOFFSETFROM:-0500
TZOFFSETTO:-0400
TZNAME:EDT
DTSTART:20260308T070000
END:DAYLIGHT
BEGIN:STANDARD
TZOFFSETFROM:-0400
TZOFFSETTO:-0500
TZNAME:EST
DTSTART:20261101T060000
END:STANDARD
BEGIN:DAYLIGHT
TZOFFSETFROM:-0500
TZOFFSETTO:-0400
TZNAME:EDT
DTSTART:20270314T070000
END:DAYLIGHT
BEGIN:STANDARD
TZOFFSETFROM:-0400
TZOFFSETTO:-0500
TZNAME:EST
DTSTART:20271107T060000
END:STANDARD
END:VTIMEZONE
BEGIN:VEVENT
DTSTART;TZID=America/New_York:20260130T190000
DTEND;TZID=America/New_York:20260130T210000
DTSTAMP:20260421T043137
CREATED:20250128T173625Z
LAST-MODIFIED:20251209T024509Z
UID:2473-1769799600-1769806800@sonasholistic.com
SUMMARY:Sound Bath Healing
DESCRIPTION:Sound bath healing to celebrate the “stirring of the seeds” season. A brief introduction to what a sound bath is and then a guided meditation to lull you into a cozy\, restful place as you are washed over by beautiful sounds emanating from crystal bowls\, chimes\, rain stick\, brass singing bowls and light drumming. This was a favorite last year and all left feeling grounded and relaxed. \nEvent details and any instructions will be sent in an email after you register. \nSuggested donation: $45
URL:https://sonasholistic.com/event/sound-bath-healing/
LOCATION:The Yurt
CATEGORIES:Sound Bath
ATTACH;FMTTYPE=image/webp:https://sonasholistic.com/wp-content/uploads/2024/04/sound-bowl.webp
ORGANIZER;CN="Sonas Holistic":MAILTO:info@sonasholistic.com
END:VEVENT
END:VCALENDAR