BEGIN:VCALENDAR
VERSION:2.0
PRODID:-//Sonas: Holistic Health &amp; Healing with Hart - ECPv6.15.20//NONSGML v1.0//EN
CALSCALE:GREGORIAN
METHOD:PUBLISH
X-ORIGINAL-URL:https://sonasholistic.com
X-WR-CALDESC:Events for Sonas: Holistic Health &amp; Healing with Hart
REFRESH-INTERVAL;VALUE=DURATION:PT1H
X-Robots-Tag:noindex
X-PUBLISHED-TTL:PT1H
BEGIN:VTIMEZONE
TZID:America/New_York
BEGIN:DAYLIGHT
TZOFFSETFROM:-0500
TZOFFSETTO:-0400
TZNAME:EDT
DTSTART:20250309T070000
END:DAYLIGHT
BEGIN:STANDARD
TZOFFSETFROM:-0400
TZOFFSETTO:-0500
TZNAME:EST
DTSTART:20251102T060000
END:STANDARD
BEGIN:DAYLIGHT
TZOFFSETFROM:-0500
TZOFFSETTO:-0400
TZNAME:EDT
DTSTART:20260308T070000
END:DAYLIGHT
BEGIN:STANDARD
TZOFFSETFROM:-0400
TZOFFSETTO:-0500
TZNAME:EST
DTSTART:20261101T060000
END:STANDARD
BEGIN:DAYLIGHT
TZOFFSETFROM:-0500
TZOFFSETTO:-0400
TZNAME:EDT
DTSTART:20270314T070000
END:DAYLIGHT
BEGIN:STANDARD
TZOFFSETFROM:-0400
TZOFFSETTO:-0500
TZNAME:EST
DTSTART:20271107T060000
END:STANDARD
END:VTIMEZONE
BEGIN:VEVENT
DTSTART;TZID=America/New_York:20260213T190000
DTEND;TZID=America/New_York:20260213T213000
DTSTAMP:20260421T061714
CREATED:20250128T232215Z
LAST-MODIFIED:20251209T143943Z
UID:2515-1771009200-1771018200@sonasholistic.com
SUMMARY:Spiritual Candle Decoupage and Guided Meditation
DESCRIPTION:Spiritual candle decoupage and guided meditation. We will start with a welcoming guided meditation to call in our creative muse and set the stage for our creativity. Then we will utilize found images and words to create an inspirational decoupage candle that you can place on your altar or in another special place in your home so that you can see it daily as a reminder of the light within. All supplies are included. \nEvent details and any instructions will be sent in an email after you register. \nSuggested donation: $35
URL:https://sonasholistic.com/event/spiritual-candle-decoupage-and-guided-meditation/
LOCATION:The Yurt
CATEGORIES:Arts & Crafts,Candle Decoupage,Meditation
ATTACH;FMTTYPE=image/webp:https://sonasholistic.com/wp-content/uploads/2025/01/candle.webp
ORGANIZER;CN="Sonas Holistic":MAILTO:info@sonasholistic.com
END:VEVENT
END:VCALENDAR